BEGIN:VCALENDAR
VERSION:2.0
PRODID:-//Inkster Preparatory Academy - ECPv5.16.4//NONSGML v1.0//EN
CALSCALE:GREGORIAN
METHOD:PUBLISH
X-WR-CALNAME:Inkster Preparatory Academy
X-ORIGINAL-URL:https://inksterprep.org
X-WR-CALDESC:Events for Inkster Preparatory Academy
BEGIN:VTIMEZONE
TZID:America/New_York
BEGIN:DAYLIGHT
TZOFFSETFROM:-0500
TZOFFSETTO:-0400
TZNAME:EDT
DTSTART:20200308T070000
END:DAYLIGHT
BEGIN:STANDARD
TZOFFSETFROM:-0400
TZOFFSETTO:-0500
TZNAME:EST
DTSTART:20201101T060000
END:STANDARD
END:VTIMEZONE
BEGIN:VEVENT
DTSTART;TZID=America/New_York:20200616T113000
DTEND;TZID=America/New_York:20200616T130000
DTSTAMP:20260424T214953
CREATED:20200601T172430Z
LAST-MODIFIED:20200611T191653Z
UID:3967-1592307000-1592312400@inksterprep.org
SUMMARY:Virtual School Tour
DESCRIPTION:Learn more about Inkster Preparatory Academy during this virtual school tour! Meet the principal and staff\, ask questions\, and learn how to register for the upcoming school year. We can’t wait to welcome you to our school! RSVP here to receive details in advance about how to access this live meeting
URL:https://inksterprep.org/event/virtual-school-tour/
LOCATION:Virtual
CATEGORIES:Calendar Only,Prospective Families, Events, Home
END:VEVENT
END:VCALENDAR