BEGIN:VCALENDAR
VERSION:2.0
PRODID:-//Inkster Preparatory Academy - ECPv5.16.4//NONSGML v1.0//EN
CALSCALE:GREGORIAN
METHOD:PUBLISH
X-WR-CALNAME:Inkster Preparatory Academy
X-ORIGINAL-URL:https://inksterprep.org
X-WR-CALDESC:Events for Inkster Preparatory Academy
BEGIN:VTIMEZONE
TZID:America/New_York
BEGIN:DAYLIGHT
TZOFFSETFROM:-0500
TZOFFSETTO:-0400
TZNAME:EDT
DTSTART:20210314T070000
END:DAYLIGHT
BEGIN:STANDARD
TZOFFSETFROM:-0400
TZOFFSETTO:-0500
TZNAME:EST
DTSTART:20211107T060000
END:STANDARD
END:VTIMEZONE
BEGIN:VEVENT
DTSTART;TZID=America/New_York:20210315T180000
DTEND;TZID=America/New_York:20210315T180000
DTSTAMP:20260424T201806
CREATED:20210310T150725Z
LAST-MODIFIED:20210310T150725Z
UID:6017-1615831200-1615831200@inksterprep.org
SUMMARY:Virtual School Board Special Meeting
DESCRIPTION:PUBLIC NOTICE OF OPEN MEETING \nPursuant of Michigan Open Meetings Act\, Act No. 267 of the Public Acts of 1976\, being Sections 15.261 to 15.275 of the Michigan Compiled Laws. \nSpecial Meeting\nReview and Discussion of Proposed ESP Agreement\nInkster Preparatory Academy Board of Directors\n27355 Woodsfield\nInkster\, MI 48141 \nTelephone:      313 278 3825 \nWebsite:          inksterprep.org \n  \nTIME:                        6:00 p.m. \nDATE:                        Monday\, March 15\, 2021 \nLOCATION:             The meeting will be held virtually. \n  \nPlease join my meeting from your computer\, tablet or smartphone. \n https://global.gotomeeting.com/join/970800365 \n  \nYou can also dial in using your phone.\n(For supported devices\, tap a one-touch number below to join instantly.) \nUnited States: +1 (872) 240-3311 \nA copy of the meeting minutes are available for public inspection at the Academy within 8 business days for proposed minutes and 5 business days for approved minutes. \nThe Academy shall comply with subtitle A of Title II of the Americans with Disabilities Act of 1990\, Public Law 101-336\, 42 USC  12101 et seq or any successor law.  Should you require specific accommodation(s) please contact Deb Rosebush at 989 252 4615\, prior to the meeting. \n 
URL:https://inksterprep.org/event/virtual-school-board-special-meeting/
LOCATION:Virtual
CATEGORIES:Calendar Only,School Board
END:VEVENT
END:VCALENDAR