BEGIN:VCALENDAR
VERSION:2.0
PRODID:-//Inkster Preparatory Academy - ECPv5.16.4//NONSGML v1.0//EN
CALSCALE:GREGORIAN
METHOD:PUBLISH
X-WR-CALNAME:Inkster Preparatory Academy
X-ORIGINAL-URL:https://inksterprep.org
X-WR-CALDESC:Events for Inkster Preparatory Academy
BEGIN:VTIMEZONE
TZID:America/New_York
BEGIN:DAYLIGHT
TZOFFSETFROM:-0500
TZOFFSETTO:-0400
TZNAME:EDT
DTSTART:20210314T070000
END:DAYLIGHT
BEGIN:STANDARD
TZOFFSETFROM:-0400
TZOFFSETTO:-0500
TZNAME:EST
DTSTART:20211107T060000
END:STANDARD
END:VTIMEZONE
BEGIN:VEVENT
DTSTART;TZID=America/New_York:20210428T180000
DTEND;TZID=America/New_York:20210428T180000
DTSTAMP:20260424T215029
CREATED:20210420T145351Z
LAST-MODIFIED:20210420T145431Z
UID:6353-1619632800-1619632800@inksterprep.org
SUMMARY:Virtual School Board Meeting
DESCRIPTION:PUBLIC NOTICE OF OPEN MEETING \nPursuant of Michigan Open Meetings Act\, Act No. 267 of the Public Acts of 1976\, being Sections 15.261 to 15.275 of the Michigan Compiled Laws. \nRegular Meeting\n Inkster Preparatory Academy Board of Directors\n 27355 Woodsfield\n Inkster\, MI 48141 \nTIME: 6:00 p.m.\nDATE: Wednesday\, April 28\, 2021\nLOCATION: The meeting will be held virtually. \nhttps://global.gotomeeting.com/join/384684381 \nUnited States: +1 (872) 240-3412\n– One-touch: tel:+18722403412\,\,384684381# \nAccess Code: 384-684-381
URL:https://inksterprep.org/event/virtual-school-board-meeting/
LOCATION:Virtual
CATEGORIES:Calendar Only,School Board
END:VEVENT
END:VCALENDAR