BEGIN:VCALENDAR
VERSION:2.0
PRODID:-//Inkster Preparatory Academy - ECPv5.16.4//NONSGML v1.0//EN
CALSCALE:GREGORIAN
METHOD:PUBLISH
X-WR-CALNAME:Inkster Preparatory Academy
X-ORIGINAL-URL:https://inksterprep.org
X-WR-CALDESC:Events for Inkster Preparatory Academy
BEGIN:VTIMEZONE
TZID:America/New_York
BEGIN:DAYLIGHT
TZOFFSETFROM:-0500
TZOFFSETTO:-0400
TZNAME:EDT
DTSTART:20200308T070000
END:DAYLIGHT
BEGIN:STANDARD
TZOFFSETFROM:-0400
TZOFFSETTO:-0500
TZNAME:EST
DTSTART:20201101T060000
END:STANDARD
END:VTIMEZONE
BEGIN:VEVENT
DTSTART;TZID=America/New_York:20200630T183000
DTEND;TZID=America/New_York:20200630T193000
DTSTAMP:20260424T214427
CREATED:20200622T201024Z
LAST-MODIFIED:20200622T201024Z
UID:4189-1593541800-1593545400@inksterprep.org
SUMMARY:Virtual Open House
DESCRIPTION:Learn more about Inkster Preparatory Academy at our virtual open house! Meet the principal and staff\, take an online school tour\, and learn how to register for the upcoming school year. We can’t wait to welcome you to our school! RSVP here to receive details in advance about how to access this live meeting. \nFamilies choose Inkster Preparatory Academy because: \n• Tuition-free\, charter school open to all K-6 students \n• Full-day Kindergarten with Early K entrance (if 5 years old by Dec. 1; waiver required) \n• Highest academic growth scores in Metro Detroit! Students average 1.5 years of growth in Math and Reading each school year \n• Recognized as a Model School by the International Center for Leadership in Education (2017) \n• Well-rounded education implementing Education Technology to advance student learning & readiness \n• Extracurriculars activities such as Basketball\, Cheerleading & field trips \n• Free after school program with academic enrichment \n• Structured atmosphere with uniform dress code \n• Free Meals & Bus Transportation \n• Accredited by Cognia™
URL:https://inksterprep.org/event/virtual-open-house/
CATEGORIES:Calendar Only,Prospective Families, Events, Home
END:VEVENT
END:VCALENDAR