BEGIN:VCALENDAR
VERSION:2.0
PRODID:-//Inkster Preparatory Academy - ECPv5.16.4//NONSGML v1.0//EN
CALSCALE:GREGORIAN
METHOD:PUBLISH
X-WR-CALNAME:Inkster Preparatory Academy
X-ORIGINAL-URL:https://inksterprep.org
X-WR-CALDESC:Events for Inkster Preparatory Academy
BEGIN:VTIMEZONE
TZID:America/New_York
BEGIN:DAYLIGHT
TZOFFSETFROM:-0500
TZOFFSETTO:-0400
TZNAME:EDT
DTSTART:20200308T070000
END:DAYLIGHT
BEGIN:STANDARD
TZOFFSETFROM:-0400
TZOFFSETTO:-0500
TZNAME:EST
DTSTART:20201101T060000
END:STANDARD
END:VTIMEZONE
BEGIN:VEVENT
DTSTART;TZID=America/New_York:20200618T113000
DTEND;TZID=America/New_York:20200618T130000
DTSTAMP:20260424T214954
CREATED:20200601T172911Z
LAST-MODIFIED:20200611T191620Z
UID:3973-1592479800-1592485200@inksterprep.org
SUMMARY:Virtual K-For-A-Day
DESCRIPTION:Kindergarten is the beginning of a special journey for each child. Join this live Zoom session to meet the Principal and Kindergarten teachers at Inkster Preparatory Academy. During this online session you will experience a typical Kindergarten Circle Time! RSVP here to receive the information you need to access the Zoom session! \nReady to enroll? Start gathering together required documents to register as a new student: Child’s Birth Certificate Parent ID (for primary\, custodial parent) Immunization Records For more information about these documents\, please visit our Enrollment Resources page at: https://accelschools.com/enrollment-resources-michigan/
URL:https://inksterprep.org/event/virtual-k-day/
CATEGORIES:Calendar Only,Prospective Families, Events, Home
END:VEVENT
END:VCALENDAR