BEGIN:VCALENDAR
VERSION:2.0
PRODID:-//Inkster Preparatory Academy - ECPv5.16.4//NONSGML v1.0//EN
CALSCALE:GREGORIAN
METHOD:PUBLISH
X-WR-CALNAME:Inkster Preparatory Academy
X-ORIGINAL-URL:https://inksterprep.org
X-WR-CALDESC:Events for Inkster Preparatory Academy
BEGIN:VTIMEZONE
TZID:America/New_York
BEGIN:DAYLIGHT
TZOFFSETFROM:-0500
TZOFFSETTO:-0400
TZNAME:EDT
DTSTART:20210314T070000
END:DAYLIGHT
BEGIN:STANDARD
TZOFFSETFROM:-0400
TZOFFSETTO:-0500
TZNAME:EST
DTSTART:20211107T060000
END:STANDARD
END:VTIMEZONE
BEGIN:VEVENT
DTSTART;TZID=America/New_York:20210101T090000
DTEND;TZID=America/New_York:20210101T090000
DTSTAMP:20260424T201610
CREATED:20201215T155755Z
LAST-MODIFIED:20201215T155941Z
UID:5383-1609491600-1609491600@inksterprep.org
SUMMARY:Virtual Fun 5K
DESCRIPTION:Join Inkster Preparatory Academy in our New Year’s commitment to stay healthy by participating in our Titan’s Virtual New Year’s 5K Fun Run! While we can’t gather together in person this year\, you can participate by completing your 5K completion before January 1\, 2021. Start your run now\, take lots of pictures\, and share them with Ms. Farris at pfarris@accelschools.com or tag us on Facebook. We want to share your accomplishment with our community!
URL:https://inksterprep.org/event/virtual-fun-5k/
LOCATION:Virtual
CATEGORIES:Calendar Only,Prospective Families, Events, Home
END:VEVENT
END:VCALENDAR