BEGIN:VCALENDAR
VERSION:2.0
PRODID:-//Inkster Preparatory Academy - ECPv5.16.4//NONSGML v1.0//EN
CALSCALE:GREGORIAN
METHOD:PUBLISH
X-WR-CALNAME:Inkster Preparatory Academy
X-ORIGINAL-URL:https://inksterprep.org
X-WR-CALDESC:Events for Inkster Preparatory Academy
BEGIN:VTIMEZONE
TZID:America/New_York
BEGIN:DAYLIGHT
TZOFFSETFROM:-0500
TZOFFSETTO:-0400
TZNAME:EDT
DTSTART:20200308T070000
END:DAYLIGHT
BEGIN:STANDARD
TZOFFSETFROM:-0400
TZOFFSETTO:-0500
TZNAME:EST
DTSTART:20201101T060000
END:STANDARD
END:VTIMEZONE
BEGIN:VEVENT
DTSTART;TZID=America/New_York:20200826T180000
DTEND;TZID=America/New_York:20200826T180000
DTSTAMP:20260424T201800
CREATED:20200813T174716Z
LAST-MODIFIED:20200813T174716Z
UID:4798-1598464800-1598464800@inksterprep.org
SUMMARY:Virtual Board Meeting
DESCRIPTION:Please join my meeting from your computer\, tablet or smartphone. \nhttps://global.gotomeeting.com/join/126642557 \nYou can also dial in using your phone.\n(For supported devices\, tap a one-touch number below to join instantly.) \nUnited States: +1 (872) 240-3311\n– One-touch: tel:+18722403311\,\,126642557# \nAccess Code: 126-642-557
URL:https://inksterprep.org/event/virtual-board-meeting-4/
LOCATION:Virtual
CATEGORIES:Calendar Only,School Board
END:VEVENT
END:VCALENDAR