BEGIN:VCALENDAR
VERSION:2.0
PRODID:-//Inkster Preparatory Academy - ECPv5.16.4//NONSGML v1.0//EN
CALSCALE:GREGORIAN
METHOD:PUBLISH
X-WR-CALNAME:Inkster Preparatory Academy
X-ORIGINAL-URL:https://inksterprep.org
X-WR-CALDESC:Events for Inkster Preparatory Academy
BEGIN:VTIMEZONE
TZID:America/New_York
BEGIN:DAYLIGHT
TZOFFSETFROM:-0500
TZOFFSETTO:-0400
TZNAME:EDT
DTSTART:20220313T070000
END:DAYLIGHT
BEGIN:STANDARD
TZOFFSETFROM:-0400
TZOFFSETTO:-0500
TZNAME:EST
DTSTART:20221106T060000
END:STANDARD
END:VTIMEZONE
BEGIN:VEVENT
DTSTART;TZID=America/New_York:20220218T150000
DTEND;TZID=America/New_York:20220218T150000
DTSTAMP:20260425T100515
CREATED:20220203T215918Z
LAST-MODIFIED:20220203T215918Z
UID:7585-1645196400-1645196400@inksterprep.org
SUMMARY:Submissions Due for Black History Month Contests
DESCRIPTION:Zeta Phi Beta & Delta Sigma Theta in conjunction with Inkster Prep is Sponsoring Our 1st Annual Black History Month Art\, Essay and Poetry Contest and Celebration. \nALL Inkster Preparatory Students in grades K through 7 can participate. \nEssays\, Art or Poetry are due to the Inkster Main Office no later than Friday\, February 18\, by 3 p.m. \nAll entries must include: students name\, age\, grade\, school\, teacher and contact number. \nWinners will be formally announced and awarded their prizes at the Virtual Celebration on Monday\, February 28\, at 5 p.m. A link will be sent out. \nLearn More »
URL:https://inksterprep.org/event/submissions-due-for-black-history-month-contests/
LOCATION:Inkster Preparatory Academy\, 27355 Woodsfield Street\, Inkster\, MI\, 48141\, United States
CATEGORIES:Calendar Only
GEO:42.3074739;-83.3097442
X-APPLE-STRUCTURED-LOCATION;VALUE=URI;X-ADDRESS=Inkster Preparatory Academy 27355 Woodsfield Street Inkster MI 48141 United States;X-APPLE-RADIUS=500;X-TITLE=27355 Woodsfield Street:geo:-83.3097442,42.3074739
END:VEVENT
END:VCALENDAR