BEGIN:VCALENDAR
VERSION:2.0
PRODID:-//Inkster Preparatory Academy - ECPv5.16.4//NONSGML v1.0//EN
CALSCALE:GREGORIAN
METHOD:PUBLISH
X-WR-CALNAME:Inkster Preparatory Academy
X-ORIGINAL-URL:https://inksterprep.org
X-WR-CALDESC:Events for Inkster Preparatory Academy
BEGIN:VTIMEZONE
TZID:America/New_York
BEGIN:DAYLIGHT
TZOFFSETFROM:-0500
TZOFFSETTO:-0400
TZNAME:EDT
DTSTART:20200308T070000
END:DAYLIGHT
BEGIN:STANDARD
TZOFFSETFROM:-0400
TZOFFSETTO:-0500
TZNAME:EST
DTSTART:20201101T060000
END:STANDARD
END:VTIMEZONE
BEGIN:VEVENT
DTSTART;TZID=America/New_York:20200812T180000
DTEND;TZID=America/New_York:20200812T200000
DTSTAMP:20260424T201942
CREATED:20200804T135453Z
LAST-MODIFIED:20200804T140218Z
UID:4714-1597255200-1597262400@inksterprep.org
SUMMARY:Special Meeting - Inkster Preparatory Academy Board of Directors
DESCRIPTION:The meeting will be held virtually. \nPlease join my meeting from your computer\, tablet or smartphone. \nhttps://global.gotomeeting.com/join/386826445 \nYou can also dial in using your phone.\n(For supported devices\, tap a one-touch number below to join instantly.)\nUnited States: +1 (224) 501-3412\n– One-touch: tel:+12245013412\,\,386826445# \nAccess Code: 386-826-445 \n  \nMeeting Notice 8.12.20 \n 
URL:https://inksterprep.org/event/special-meeting-inkster-preparatory-academy-board-directors/
LOCATION:Virtual
CATEGORIES:Calendar Only,Prospective Families, Events, Home,School Board
ORGANIZER;CN="School":MAILTO:test@test.com
END:VEVENT
END:VCALENDAR