BEGIN:VCALENDAR
VERSION:2.0
PRODID:-//Inkster Preparatory Academy - ECPv5.16.4//NONSGML v1.0//EN
CALSCALE:GREGORIAN
METHOD:PUBLISH
X-WR-CALNAME:Inkster Preparatory Academy
X-ORIGINAL-URL:https://inksterprep.org
X-WR-CALDESC:Events for Inkster Preparatory Academy
BEGIN:VTIMEZONE
TZID:America/New_York
BEGIN:DAYLIGHT
TZOFFSETFROM:-0500
TZOFFSETTO:-0400
TZNAME:EDT
DTSTART:20200308T070000
END:DAYLIGHT
BEGIN:STANDARD
TZOFFSETFROM:-0400
TZOFFSETTO:-0500
TZNAME:EST
DTSTART:20201101T060000
END:STANDARD
END:VTIMEZONE
BEGIN:VEVENT
DTSTART;TZID=America/New_York:20201202T180000
DTEND;TZID=America/New_York:20201202T180000
DTSTAMP:20260424T201930
CREATED:20201119T215615Z
LAST-MODIFIED:20201119T215615Z
UID:5221-1606932000-1606932000@inksterprep.org
SUMMARY:Special Board Meeting - Virtual
DESCRIPTION:PUBLIC NOTICE OF OPEN MEETING \nPursuant of Michigan Open Meetings Act\, Act No. 267 of the Public Acts of 1976\, being Sections 15.261 to 15.275 of the Michigan Compiled Laws. \n  \nSpecial Meeting\nInkster Preparatory Academy Board of Directors \n\n  \nPlease join my meeting from your computer\, tablet or smartphone. \nhttps://global.gotomeeting.com/join/717065589 \n  \nYou can also dial in using your phone. \n(For supported devices\, tap a one-touch number below to join instantly.) \nUnited States: +1 (872) 240-3311 \n– One-touch: tel:+18722403311\,\,717065589# \nAccess Code: 717-065-589 \n  \nA copy of the meeting minutes are available for public inspection at the Academy within 8 business days for proposed minutes and 5 business days for approved minutes. \nThe Academy shall comply with subtitle A of Title II of the Americans with Disabilities Act of 1990\, Public Law 101-336\, 42 USC  12101 et seq or any successor law.  Should you require specific accommodation(s) please contact Deb Rosebush at 989 252 4615\, prior to the meeting. \n 
URL:https://inksterprep.org/event/special-board-meeting-virtual/
LOCATION:Virtual
CATEGORIES:Calendar Only,School Board
END:VEVENT
END:VCALENDAR