BEGIN:VCALENDAR
VERSION:2.0
PRODID:-//Inkster Preparatory Academy - ECPv5.16.4//NONSGML v1.0//EN
CALSCALE:GREGORIAN
METHOD:PUBLISH
X-WR-CALNAME:Inkster Preparatory Academy
X-ORIGINAL-URL:https://inksterprep.org
X-WR-CALDESC:Events for Inkster Preparatory Academy
BEGIN:VTIMEZONE
TZID:America/New_York
BEGIN:DAYLIGHT
TZOFFSETFROM:-0500
TZOFFSETTO:-0400
TZNAME:EDT
DTSTART:20210314T070000
END:DAYLIGHT
BEGIN:STANDARD
TZOFFSETFROM:-0400
TZOFFSETTO:-0500
TZNAME:EST
DTSTART:20211107T060000
END:STANDARD
END:VTIMEZONE
BEGIN:VEVENT
DTSTART;TZID=America/New_York:20211108T150000
DTEND;TZID=America/New_York:20211108T150000
DTSTAMP:20260425T194140
CREATED:20210812T160116Z
LAST-MODIFIED:20210812T160116Z
UID:6895-1636383600-1636383600@inksterprep.org
SUMMARY:Science Research Project 2nd Rough Draft Due - Grades 3-7
DESCRIPTION:
URL:https://inksterprep.org/event/science-research-project-2nd-rough-draft-due-grades-3-7/
CATEGORIES:Calendar Only
END:VEVENT
END:VCALENDAR