BEGIN:VCALENDAR
VERSION:2.0
PRODID:-//Inkster Preparatory Academy - ECPv5.16.4//NONSGML v1.0//EN
CALSCALE:GREGORIAN
METHOD:PUBLISH
X-WR-CALNAME:Inkster Preparatory Academy
X-ORIGINAL-URL:https://inksterprep.org
X-WR-CALDESC:Events for Inkster Preparatory Academy
BEGIN:VTIMEZONE
TZID:America/New_York
BEGIN:DAYLIGHT
TZOFFSETFROM:-0500
TZOFFSETTO:-0400
TZNAME:EDT
DTSTART:20210314T070000
END:DAYLIGHT
BEGIN:STANDARD
TZOFFSETFROM:-0400
TZOFFSETTO:-0500
TZNAME:EST
DTSTART:20211107T060000
END:STANDARD
END:VTIMEZONE
BEGIN:VEVENT
DTSTART;VALUE=DATE:20210118
DTEND;VALUE=DATE:20210203
DTSTAMP:20260424T215120
CREATED:20210125T192208Z
LAST-MODIFIED:20210125T192208Z
UID:5771-1610928000-1612310399@inksterprep.org
SUMMARY:Refer a Friend - Win a Chromebook!
DESCRIPTION:Refer a friend to Inkster Preparatory Academy and you could win a Chromebook! From January 18 – February 2\, enrolled families who complete the referral form sent by your teacher will be entered into a drawing to win a brand new Chromebook! Winners will be drawn at random after February 2\, 2021. Don’t miss your chance—fill out and submit your referral form today!
URL:https://inksterprep.org/event/refer-friend-win-chromebook/
CATEGORIES:Calendar Only
END:VEVENT
END:VCALENDAR