BEGIN:VCALENDAR
VERSION:2.0
PRODID:-//Inkster Preparatory Academy - ECPv5.16.4//NONSGML v1.0//EN
CALSCALE:GREGORIAN
METHOD:PUBLISH
X-WR-CALNAME:Inkster Preparatory Academy
X-ORIGINAL-URL:https://inksterprep.org
X-WR-CALDESC:Events for Inkster Preparatory Academy
BEGIN:VTIMEZONE
TZID:America/New_York
BEGIN:DAYLIGHT
TZOFFSETFROM:-0500
TZOFFSETTO:-0400
TZNAME:EDT
DTSTART:20220313T070000
END:DAYLIGHT
BEGIN:STANDARD
TZOFFSETFROM:-0400
TZOFFSETTO:-0500
TZNAME:EST
DTSTART:20221106T060000
END:STANDARD
END:VTIMEZONE
BEGIN:VEVENT
DTSTART;TZID=America/New_York:20220304T150000
DTEND;TZID=America/New_York:20220304T150000
DTSTAMP:20260424T214804
CREATED:20210812T161343Z
LAST-MODIFIED:20210812T161343Z
UID:7015-1646406000-1646406000@inksterprep.org
SUMMARY:Progress Report Grades Due
DESCRIPTION:
URL:https://inksterprep.org/event/progress-report-grades-due/
CATEGORIES:Calendar Only
END:VEVENT
END:VCALENDAR