BEGIN:VCALENDAR
VERSION:2.0
PRODID:-//Inkster Preparatory Academy - ECPv5.16.4//NONSGML v1.0//EN
CALSCALE:GREGORIAN
METHOD:PUBLISH
X-WR-CALNAME:Inkster Preparatory Academy
X-ORIGINAL-URL:https://inksterprep.org
X-WR-CALDESC:Events for Inkster Preparatory Academy
BEGIN:VTIMEZONE
TZID:America/New_York
BEGIN:DAYLIGHT
TZOFFSETFROM:-0500
TZOFFSETTO:-0400
TZNAME:EDT
DTSTART:20260308T070000
END:DAYLIGHT
BEGIN:STANDARD
TZOFFSETFROM:-0400
TZOFFSETTO:-0500
TZNAME:EST
DTSTART:20261101T060000
END:STANDARD
END:VTIMEZONE
BEGIN:VEVENT
DTSTART;TZID=America/New_York:20260317T153000
DTEND;TZID=America/New_York:20260317T173000
DTSTAMP:20260424T135215
CREATED:20260223T213936Z
LAST-MODIFIED:20260223T213936Z
UID:12836-1773761400-1773768600@inksterprep.org
SUMMARY:Open House and Open Enrollment
DESCRIPTION:It’s time to register for the upcoming school year! Join us to learn more about our school culture\, academics\, extracurricular programs\, and school services. Tour the campus\, meet our principal and receive registration support.  \nRSVP Today! 	 \nhttps://inksterprep.org/events/
URL:https://inksterprep.org/event/open-house-open-enrollment/
CATEGORIES:Calendar Only,Prospective Families, Events, Home
END:VEVENT
END:VCALENDAR