BEGIN:VCALENDAR
VERSION:2.0
PRODID:-//Inkster Preparatory Academy - ECPv5.16.4//NONSGML v1.0//EN
CALSCALE:GREGORIAN
METHOD:PUBLISH
X-WR-CALNAME:Inkster Preparatory Academy
X-ORIGINAL-URL:https://inksterprep.org
X-WR-CALDESC:Events for Inkster Preparatory Academy
BEGIN:VTIMEZONE
TZID:America/New_York
BEGIN:DAYLIGHT
TZOFFSETFROM:-0500
TZOFFSETTO:-0400
TZNAME:EDT
DTSTART:20200308T070000
END:DAYLIGHT
BEGIN:STANDARD
TZOFFSETFROM:-0400
TZOFFSETTO:-0500
TZNAME:EST
DTSTART:20201101T060000
END:STANDARD
END:VTIMEZONE
BEGIN:VEVENT
DTSTART;TZID=America/New_York:20200328T100000
DTEND;TZID=America/New_York:20200328T120000
DTSTAMP:20260424T215121
CREATED:20200305T202248Z
LAST-MODIFIED:20200305T202248Z
UID:2281-1585389600-1585396800@inksterprep.org
SUMMARY:K-6 Open Enrollment Day
DESCRIPTION:Inkster Preparatory Academy is now enrolling Grades K-6 for the 20-21 school year! Attend Open Enrollment Day to learn more about Inkster Preparatory Academy and to register your students for the upcoming school year! Meet Principal Hurt and our teachers. Tour our school and visit classrooms. Refreshments will be served. \nMake the most of Open Enrollment Day! Bring the following:\nChild’s Birth Certificate\nParent ID (for primary\, custodial parent)\nImmunization Records\nFor more information about these documents\, please visit our Enrollment Resources page at: https://accelschools.com/enrollment-resources-michigan/ \nFamilies choose Inkster Preparatory Academy because:\nFree\, full-day Kindergarten\nModel School Award winner for increasing student achievement\, building a culture of innovation & strengthening rigorous learning for ALL students\nUse of Harvard’s Data-Wise program\, a collaborative process to improve learning & teaching\n21st Century Learning Center\, an after school enrichment program with tutoring & activities\nFree bus transportation throughout Inkster & surrounding communities\nExtracurricular activities including a co-ed basketball team\nCommunity partnerships such as Zeta Phi Beta Sorority Inc & Alpha Kappa Alpha Sorority Inc
URL:https://inksterprep.org/event/k-6-open-enrollment-day-2/
LOCATION:Inkster Preparatory Academy\, 27355 Woodsfield Street\, Inkster\, MI\, 48141\, United States
CATEGORIES:Calendar Only,Prospective Families, Events, Home
GEO:42.3074739;-83.3097442
X-APPLE-STRUCTURED-LOCATION;VALUE=URI;X-ADDRESS=Inkster Preparatory Academy 27355 Woodsfield Street Inkster MI 48141 United States;X-APPLE-RADIUS=500;X-TITLE=27355 Woodsfield Street:geo:-83.3097442,42.3074739
END:VEVENT
END:VCALENDAR