BEGIN:VCALENDAR
VERSION:2.0
PRODID:-//Inkster Preparatory Academy - ECPv5.16.4//NONSGML v1.0//EN
CALSCALE:GREGORIAN
METHOD:PUBLISH
X-WR-CALNAME:Inkster Preparatory Academy
X-ORIGINAL-URL:https://inksterprep.org
X-WR-CALDESC:Events for Inkster Preparatory Academy
BEGIN:VTIMEZONE
TZID:America/New_York
BEGIN:DAYLIGHT
TZOFFSETFROM:-0500
TZOFFSETTO:-0400
TZNAME:EDT
DTSTART:20240310T070000
END:DAYLIGHT
BEGIN:STANDARD
TZOFFSETFROM:-0400
TZOFFSETTO:-0500
TZNAME:EST
DTSTART:20241103T060000
END:STANDARD
END:VTIMEZONE
BEGIN:VEVENT
DTSTART;TZID=America/New_York:20240611T170000
DTEND;TZID=America/New_York:20240611T170000
DTSTAMP:20260424T154246
CREATED:20231018T140019Z
LAST-MODIFIED:20231018T140019Z
UID:10846-1718125200-1718125200@inksterprep.org
SUMMARY:Fourth Quarter / Second Semester Grades Due
DESCRIPTION:Grades Due 5:00 pm
URL:https://inksterprep.org/event/fourth-quarter-second-semester-grades-due/
END:VEVENT
END:VCALENDAR