BEGIN:VCALENDAR
VERSION:2.0
PRODID:-//Inkster Preparatory Academy - ECPv5.16.4//NONSGML v1.0//EN
CALSCALE:GREGORIAN
METHOD:PUBLISH
X-WR-CALNAME:Inkster Preparatory Academy
X-ORIGINAL-URL:https://inksterprep.org
X-WR-CALDESC:Events for Inkster Preparatory Academy
BEGIN:VTIMEZONE
TZID:America/New_York
BEGIN:DAYLIGHT
TZOFFSETFROM:-0500
TZOFFSETTO:-0400
TZNAME:EDT
DTSTART:20220313T070000
END:DAYLIGHT
BEGIN:STANDARD
TZOFFSETFROM:-0400
TZOFFSETTO:-0500
TZNAME:EST
DTSTART:20221106T060000
END:STANDARD
END:VTIMEZONE
BEGIN:VEVENT
DTSTART;VALUE=DATE:20220211
DTEND;VALUE=DATE:20220212
DTSTAMP:20260425T213418
CREATED:20220207T180548Z
LAST-MODIFIED:20220207T180548Z
UID:7705-1644537600-1644623999@inksterprep.org
SUMMARY:Classroom Black History Door Contest Due
DESCRIPTION:
URL:https://inksterprep.org/event/classroom-black-history-door-contest-due/
LOCATION:Inkster Preparatory Academy\, 27355 Woodsfield Street\, Inkster\, MI\, 48141\, United States
CATEGORIES:Calendar Only
GEO:42.3074739;-83.3097442
X-APPLE-STRUCTURED-LOCATION;VALUE=URI;X-ADDRESS=Inkster Preparatory Academy 27355 Woodsfield Street Inkster MI 48141 United States;X-APPLE-RADIUS=500;X-TITLE=27355 Woodsfield Street:geo:-83.3097442,42.3074739
END:VEVENT
END:VCALENDAR