BEGIN:VCALENDAR
VERSION:2.0
PRODID:-//Inkster Preparatory Academy - ECPv5.16.4//NONSGML v1.0//EN
CALSCALE:GREGORIAN
METHOD:PUBLISH
X-WR-CALNAME:Inkster Preparatory Academy
X-ORIGINAL-URL:https://inksterprep.org
X-WR-CALDESC:Events for Inkster Preparatory Academy
BEGIN:VTIMEZONE
TZID:America/New_York
BEGIN:DAYLIGHT
TZOFFSETFROM:-0500
TZOFFSETTO:-0400
TZNAME:EDT
DTSTART:20230312T070000
END:DAYLIGHT
BEGIN:STANDARD
TZOFFSETFROM:-0400
TZOFFSETTO:-0500
TZNAME:EST
DTSTART:20231105T060000
END:STANDARD
END:VTIMEZONE
BEGIN:VEVENT
DTSTART;VALUE=DATE:20230426
DTEND;VALUE=DATE:20230427
DTSTAMP:20260425T082320
CREATED:20220915T170204Z
LAST-MODIFIED:20220915T170204Z
UID:9022-1682467200-1682553599@inksterprep.org
SUMMARY:Board Meeting
DESCRIPTION:
URL:https://inksterprep.org/event/board-meeting-33/
LOCATION:Inkster Preparatory Academy\, 27355 Woodsfield Street\, Inkster\, MI\, 48141\, United States
CATEGORIES:Calendar Only,School Board
GEO:42.3074739;-83.3097442
X-APPLE-STRUCTURED-LOCATION;VALUE=URI;X-ADDRESS=Inkster Preparatory Academy 27355 Woodsfield Street Inkster MI 48141 United States;X-APPLE-RADIUS=500;X-TITLE=27355 Woodsfield Street:geo:-83.3097442,42.3074739
END:VEVENT
END:VCALENDAR