BEGIN:VCALENDAR
VERSION:2.0
PRODID:-//Inkster Preparatory Academy - ECPv5.16.4//NONSGML v1.0//EN
CALSCALE:GREGORIAN
METHOD:PUBLISH
X-WR-CALNAME:Inkster Preparatory Academy
X-ORIGINAL-URL:https://inksterprep.org
X-WR-CALDESC:Events for Inkster Preparatory Academy
BEGIN:VTIMEZONE
TZID:America/New_York
BEGIN:DAYLIGHT
TZOFFSETFROM:-0500
TZOFFSETTO:-0400
TZNAME:EDT
DTSTART:20200308T070000
END:DAYLIGHT
BEGIN:STANDARD
TZOFFSETFROM:-0400
TZOFFSETTO:-0500
TZNAME:EST
DTSTART:20201101T060000
END:STANDARD
END:VTIMEZONE
BEGIN:VEVENT
DTSTART;TZID=America/New_York:20200714T123000
DTEND;TZID=America/New_York:20200714T130000
DTSTAMP:20260424T201805
CREATED:20200707T192119Z
LAST-MODIFIED:20200707T192119Z
UID:4435-1594729800-1594731600@inksterprep.org
SUMMARY:20-21 School Year Info Session on Facebook Live
DESCRIPTION:Join Inkster Preparatory Academy for a Virtual 20-21 School Year Info Session on Facebook Live. \nLearn more about enrollment and expectations for the upcoming school year. In addition\, meet the principal and staff that makes our school so great! We hope to see you there! \nRSVP here today!
URL:https://inksterprep.org/event/20-21-school-year-info-session-facebook-live/
LOCATION:Virtual
CATEGORIES:Calendar Only,Prospective Families, Events, Home
END:VEVENT
END:VCALENDAR