BEGIN:VCALENDAR
VERSION:2.0
PRODID:-//Inkster Preparatory Academy - ECPv5.16.4//NONSGML v1.0//EN
CALSCALE:GREGORIAN
METHOD:PUBLISH
X-WR-CALNAME:Inkster Preparatory Academy
X-ORIGINAL-URL:https://inksterprep.org
X-WR-CALDESC:Events for Inkster Preparatory Academy
BEGIN:VTIMEZONE
TZID:America/New_York
BEGIN:DAYLIGHT
TZOFFSETFROM:-0500
TZOFFSETTO:-0400
TZNAME:EDT
DTSTART:20250309T070000
END:DAYLIGHT
BEGIN:STANDARD
TZOFFSETFROM:-0400
TZOFFSETTO:-0500
TZNAME:EST
DTSTART:20251102T060000
END:STANDARD
END:VTIMEZONE
BEGIN:VEVENT
DTSTART;TZID=America/New_York:20250305T090000
DTEND;TZID=America/New_York:20250305T110000
DTSTAMP:20260425T070346
CREATED:20250226T225806Z
LAST-MODIFIED:20250226T225806Z
UID:12485-1741165200-1741172400@inksterprep.org
SUMMARY:Open House
DESCRIPTION:Join an upcoming Open House to learn more about our school. Explore our classrooms\, meet our teachers\, and learn about our tuition-free program! RSVP Today: inksterprep.org/events
URL:https://inksterprep.org/event/open-house-2/
LOCATION:Inkster Preparatory Academy\, 27355 Woodsfield Street\, Inkster\, MI\, 48141\, United States
CATEGORIES:Calendar Only,Prospective Families, Events, Home
GEO:42.3074739;-83.3097442
X-APPLE-STRUCTURED-LOCATION;VALUE=URI;X-ADDRESS=Inkster Preparatory Academy 27355 Woodsfield Street Inkster MI 48141 United States;X-APPLE-RADIUS=500;X-TITLE=27355 Woodsfield Street:geo:-83.3097442,42.3074739
END:VEVENT
BEGIN:VEVENT
DTSTART;TZID=America/New_York:20250305T153000
DTEND;TZID=America/New_York:20250305T173000
DTSTAMP:20260425T070346
CREATED:20250226T225847Z
LAST-MODIFIED:20250226T225847Z
UID:12487-1741188600-1741195800@inksterprep.org
SUMMARY:Open House
DESCRIPTION:Join an upcoming Open House to learn more about our school. Explore our classrooms\, meet our teachers\, and learn about our tuition-free program! RSVP Today: inksterprep.org/events
URL:https://inksterprep.org/event/open-house-3/
LOCATION:Inkster Preparatory Academy\, 27355 Woodsfield Street\, Inkster\, MI\, 48141\, United States
CATEGORIES:Calendar Only,Prospective Families, Events, Home
GEO:42.3074739;-83.3097442
X-APPLE-STRUCTURED-LOCATION;VALUE=URI;X-ADDRESS=Inkster Preparatory Academy 27355 Woodsfield Street Inkster MI 48141 United States;X-APPLE-RADIUS=500;X-TITLE=27355 Woodsfield Street:geo:-83.3097442,42.3074739
END:VEVENT
END:VCALENDAR