BEGIN:VCALENDAR
VERSION:2.0
PRODID:-//Inkster Preparatory Academy - ECPv5.16.4//NONSGML v1.0//EN
CALSCALE:GREGORIAN
METHOD:PUBLISH
X-WR-CALNAME:Inkster Preparatory Academy
X-ORIGINAL-URL:https://inksterprep.org
X-WR-CALDESC:Events for Inkster Preparatory Academy
BEGIN:VTIMEZONE
TZID:America/New_York
BEGIN:DAYLIGHT
TZOFFSETFROM:-0500
TZOFFSETTO:-0400
TZNAME:EDT
DTSTART:20240310T070000
END:DAYLIGHT
BEGIN:STANDARD
TZOFFSETFROM:-0400
TZOFFSETTO:-0500
TZNAME:EST
DTSTART:20241103T060000
END:STANDARD
END:VTIMEZONE
BEGIN:VEVENT
DTSTART;VALUE=DATE:20240624
DTEND;VALUE=DATE:20240801
DTSTAMP:20260425T190544
CREATED:20230627T145406Z
LAST-MODIFIED:20230627T145406Z
UID:10180-1719187200-1722470399@inksterprep.org
SUMMARY:Summer School
DESCRIPTION:
URL:https://inksterprep.org/event/summer-school/
LOCATION:Inkster Preparatory Academy\, 27355 Woodsfield Street\, Inkster\, MI\, 48141\, United States
CATEGORIES:Calendar Only
GEO:42.3074739;-83.3097442
X-APPLE-STRUCTURED-LOCATION;VALUE=URI;X-ADDRESS=Inkster Preparatory Academy 27355 Woodsfield Street Inkster MI 48141 United States;X-APPLE-RADIUS=500;X-TITLE=27355 Woodsfield Street:geo:-83.3097442,42.3074739
END:VEVENT
BEGIN:VEVENT
DTSTART;TZID=America/New_York:20240717T123000
DTEND;TZID=America/New_York:20240717T153000
DTSTAMP:20260425T190544
CREATED:20240529T164837Z
LAST-MODIFIED:20240529T165545Z
UID:12022-1721219400-1721230200@inksterprep.org
SUMMARY:Summer Sports Camp
DESCRIPTION:Come to one of our FREE Summer Sports Camp! Camp begins at 12:30pm and ends at 3:30pm each day\, you do not need to be an enrolled student to attend\, and all activities will be held at Inkster Prep’s campus. Summer Sports Camp is designed for young athletes eager to embrace the spirit of the Olympics! This dynamic camp offers a variety of sports\, including running\, pickleball\, basketball\, volleyball and soccer! Taught by experienced professionals dedicated to fostering skill development and teamwork. \nJuly 8th – 10th\, students from Kindergarten – 2nd grade are welcome to start their Olympic Journey and learn about teamwork! \nJuly 15th-18th grades 3rd – 5th are invited to hone their skills and be introduced to a variety of sports! \nJuly 22nd – 24th grades 6th- 8th will learn the values of dedication and perseverance as they get set for their own Olympic run! \nSign your child up today for an unforgettable summer of fun\, fitness\, and Olympic excitement at Inkster Preparatory Academy! \ninksterprep.org/summer
URL:https://inksterprep.org/event/summer-sports-camp/2024-07-17/
LOCATION:Inkster Preparatory Academy\, 27355 Woodsfield Street\, Inkster\, MI\, 48141\, United States
CATEGORIES:Calendar Only,Prospective Families, Events, Home
GEO:42.3074739;-83.3097442
X-APPLE-STRUCTURED-LOCATION;VALUE=URI;X-ADDRESS=Inkster Preparatory Academy 27355 Woodsfield Street Inkster MI 48141 United States;X-APPLE-RADIUS=500;X-TITLE=27355 Woodsfield Street:geo:-83.3097442,42.3074739
END:VEVENT
END:VCALENDAR