BEGIN:VCALENDAR
VERSION:2.0
PRODID:-//Inkster Preparatory Academy - ECPv5.16.4//NONSGML v1.0//EN
CALSCALE:GREGORIAN
METHOD:PUBLISH
X-WR-CALNAME:Inkster Preparatory Academy
X-ORIGINAL-URL:https://inksterprep.org
X-WR-CALDESC:Events for Inkster Preparatory Academy
BEGIN:VTIMEZONE
TZID:America/New_York
BEGIN:DAYLIGHT
TZOFFSETFROM:-0500
TZOFFSETTO:-0400
TZNAME:EDT
DTSTART:20260308T070000
END:DAYLIGHT
BEGIN:STANDARD
TZOFFSETFROM:-0400
TZOFFSETTO:-0500
TZNAME:EST
DTSTART:20261101T060000
END:STANDARD
END:VTIMEZONE
BEGIN:VEVENT
DTSTART;TZID=America/New_York:20260324T160000
DTEND;TZID=America/New_York:20260324T180000
DTSTAMP:20260425T092345
CREATED:20260316T125333Z
LAST-MODIFIED:20260316T125333Z
UID:12857-1774368000-1774375200@inksterprep.org
SUMMARY:Spaghetti Dinner
DESCRIPTION:Join us for a night of food\, fun\, and community at our Spaghetti Dinner! Bring the whole family and enjoy a delicious homemade meal. It’s the perfect way to connect with friends\, meet new faces\, and celebrate the amazing students and staff who make our school so special. Come hungry—we’ll have plenty of spaghetti\, sides\, and sweet treats for everyone! Enjoy a free family dinner\, school tours and enrollment support.  \nRSVP Today! https://inksterprep.org/events/
URL:https://inksterprep.org/event/spaghetti-dinner/
LOCATION:Inkster Preparatory Academy\, 27355 Woodsfield Street\, Inkster\, MI\, 48141\, United States
CATEGORIES:Calendar Only,Prospective Families, Events, Home
GEO:42.3074739;-83.3097442
X-APPLE-STRUCTURED-LOCATION;VALUE=URI;X-ADDRESS=Inkster Preparatory Academy 27355 Woodsfield Street Inkster MI 48141 United States;X-APPLE-RADIUS=500;X-TITLE=27355 Woodsfield Street:geo:-83.3097442,42.3074739
END:VEVENT
END:VCALENDAR